BEGIN:VCALENDAR
PRODID:-//hacksw/handcal//NONSGML v1.0//EN
VERSION:2.0
CALSCALE:GREGORIAN
METHOD:PUBLISH
X-WR-CALNAME:StartCamp Madrid 2013
X-WR-TIMEZONE:Europe/Madrid
X-WR-CALDESC:StartCamp Madrid 2013
BEGIN:VEVENT
DTSTART:20130308T163000Z
DTEND:20130310T200000Z
DTSTAMP:20130308T163000Z
UID:5b30278d87a42dc3370853624a4d37c3@betabeers.com
CREATED:20130213T113613Z
DESCRIPTION:https://betabeers.com/en/event/startcamp-madrid-2013-676/
URL:https://betabeers.com/en/event/startcamp-madrid-2013-676/
LAST-MODIFIED:20130213T113613Z
LOCATION:Calle Gran Vía, 28, Madrid, España
SEQUENCE:0
STATUS:CONFIRMED
SUMMARY:StartCamp Madrid 2013
TRANSP:OPAQUE
END:VEVENT
END:VCALENDAR
