BEGIN:VCALENDAR
PRODID:-//hacksw/handcal//NONSGML v1.0//EN
VERSION:2.0
CALSCALE:GREGORIAN
METHOD:PUBLISH
X-WR-CALNAME:SATELEC Emprendedores: Mesa redonda de negocio.
X-WR-TIMEZONE:Europe/Madrid
X-WR-CALDESC:SATELEC Emprendedores: Mesa redonda de negocio.
BEGIN:VEVENT
DTSTART:20130221T170000Z
DTEND:20130221T200000Z
DTSTAMP:20130221T170000Z
UID:edfc469d2d82cd590d6b5648e3f9bd92@betabeers.com
CREATED:20130206T175031Z
DESCRIPTION:https://betabeers.com/en/event/satelec-emprendedores-mesa-redon
da-negocio-21-febrero-2013-665/
URL:https://betabeers.com/en/event/satelec-emprendedores-mesa-redonda-negoc
io-21-febrero-2013-665/
LAST-MODIFIED:20130206T175031Z
LOCATION:E.T.S.I. de Telecomunicación Universidad Politécnica de MAdrid A
venida Complutense nº 30, "Ciudad Universitaria"., Madrid, España
SEQUENCE:0
STATUS:CONFIRMED
SUMMARY:SATELEC Emprendedores: Mesa redonda de negocio.
TRANSP:OPAQUE
END:VEVENT
END:VCALENDAR
