BEGIN:VCALENDAR
PRODID:-//hacksw/handcal//NONSGML v1.0//EN
VERSION:2.0
CALSCALE:GREGORIAN
METHOD:PUBLISH
X-WR-CALNAME:Software y barra libre
X-WR-TIMEZONE:Europe/Madrid
X-WR-CALDESC:Software y barra libre
BEGIN:VEVENT
DTSTART:20130130T180000Z
DTEND:20130130T210000Z
DTSTAMP:20130130T180000Z
UID:4757868f9a0863a20f73380e88ddc200@betabeers.com
CREATED:20130129T124603Z
DESCRIPTION:https://betabeers.com/en/event/software-barra-libre-655/
URL:https://betabeers.com/en/event/software-barra-libre-655/
LAST-MODIFIED:20130129T124603Z
LOCATION:Camino de la mosquetera 41, Zaragoza, España
SEQUENCE:0
STATUS:CONFIRMED
SUMMARY:Software y barra libre
TRANSP:OPAQUE
END:VEVENT
END:VCALENDAR
