BEGIN:VCALENDAR
PRODID:-//hacksw/handcal//NONSGML v1.0//EN
VERSION:2.0
CALSCALE:GREGORIAN
METHOD:PUBLISH
X-WR-CALNAME:Konekta Summit
X-WR-TIMEZONE:Europe/Madrid
X-WR-CALDESC:Konekta Summit
BEGIN:VEVENT
DTSTART:20170622T090000Z
DTEND:20170622T160000Z
DTSTAMP:20170622T090000Z
UID:5b10dc4b5d7e1b7f659e0c205432c237@betabeers.com
CREATED:20170517T152020Z
DESCRIPTION:https://betabeers.com/en/event/konekta-summit-5489/
URL:https://betabeers.com/en/event/konekta-summit-5489/
LAST-MODIFIED:20170517T152020Z
LOCATION:Tabakalera, San Sebastian, España
SEQUENCE:0
STATUS:CONFIRMED
SUMMARY:Konekta Summit
TRANSP:OPAQUE
END:VEVENT
END:VCALENDAR
