BEGIN:VCALENDAR
PRODID:-//hacksw/handcal//NONSGML v1.0//EN
VERSION:2.0
CALSCALE:GREGORIAN
METHOD:PUBLISH
X-WR-CALNAME:Evento MSDN en The Hub: Asincronía, paralelismo y Windows Azure
X-WR-TIMEZONE:Europe/Madrid
X-WR-CALDESC:Evento MSDN en The Hub: Asincronía, paralelismo y Windows Azure
BEGIN:VEVENT
DTSTART:20121115T183000Z
DTEND:20121115T203000Z
DTSTAMP:20121115T183000Z
UID:eb5a2916119d088b6eaabb8bceb70ffe@betabeers.com
CREATED:20121112T140513Z
DESCRIPTION:https://betabeers.com/en/event/evento-msdn-the-hub-asincronia-p
aralelismo-windows-azure-522/
URL:https://betabeers.com/en/event/evento-msdn-the-hub-asincronia-paralelis
mo-windows-azure-522/
LAST-MODIFIED:20121112T140513Z
LOCATION:Hub Madrid, C/ Gobernador 26, Madrid, Madrid, 28014, Spain, Madrid
, España
SEQUENCE:0
STATUS:CONFIRMED
SUMMARY:Evento MSDN en The Hub: Asincronía, paralelismo y Windows Azure
TRANSP:OPAQUE
END:VEVENT
END:VCALENDAR
