BEGIN:VCALENDAR
PRODID:-//hacksw/handcal//NONSGML v1.0//EN
VERSION:2.0
CALSCALE:GREGORIAN
METHOD:PUBLISH
X-WR-CALNAME:Balanceadores: ldirector vs haproxy
X-WR-TIMEZONE:Europe/Madrid
X-WR-CALDESC:Balanceadores: ldirector vs haproxy
BEGIN:VEVENT
DTSTART:20121122T170000Z
DTEND:20121122T200000Z
DTSTAMP:20121122T170000Z
UID:2a3ce4698ca661c8d0064218d323746e@betabeers.com
CREATED:20121111T104455Z
DESCRIPTION:https://betabeers.com/en/event/balanceadores-ldirector-vs-hapro
xy-520/
URL:https://betabeers.com/en/event/balanceadores-ldirector-vs-haproxy-520/
LAST-MODIFIED:20121111T104455Z
LOCATION:Calle Marqués de Ahumada, 7, Primera Planta, Madrid, España
SEQUENCE:0
STATUS:CONFIRMED
SUMMARY:Balanceadores: ldirector vs haproxy
TRANSP:OPAQUE
END:VEVENT
END:VCALENDAR
