BEGIN:VCALENDAR
PRODID:-//hacksw/handcal//NONSGML v1.0//EN
VERSION:2.0
CALSCALE:GREGORIAN
METHOD:PUBLISH
X-WR-CALNAME:Introdución a symfony2
X-WR-TIMEZONE:Europe/Madrid
X-WR-CALDESC:Introdución a symfony2
BEGIN:VEVENT
DTSTART:20121130T160000Z
DTEND:20121130T190000Z
DTSTAMP:20121130T160000Z
UID:64023303b114dd61799ee334c0dad70e@betabeers.com
CREATED:20121110T165226Z
DESCRIPTION:https://betabeers.com/en/event/introducion-a-symfony2-519/
URL:https://betabeers.com/en/event/introducion-a-symfony2-519/
LAST-MODIFIED:20121110T165226Z
LOCATION:Avenida Duque de Nájera, 16, cádiz, Cadiz, España
SEQUENCE:0
STATUS:CONFIRMED
SUMMARY:Introdución a symfony2
TRANSP:OPAQUE
END:VEVENT
END:VCALENDAR
