BEGIN:VCALENDAR
PRODID:-//hacksw/handcal//NONSGML v1.0//EN
VERSION:2.0
CALSCALE:GREGORIAN
METHOD:PUBLISH
X-WR-CALNAME:Techday Tour - Tenerife
X-WR-TIMEZONE:Europe/Madrid
X-WR-CALDESC:Techday Tour - Tenerife
BEGIN:VEVENT
DTSTART:20121212T083000Z
DTEND:20121212T140000Z
DTSTAMP:20121212T083000Z
UID:1111d5a3943a6a695e04ff5498794041@betabeers.com
CREATED:20121106T150801Z
DESCRIPTION:https://betabeers.com/en/event/techday-tour-tenerife-12-diciemb
re-2012-504/
URL:https://betabeers.com/en/event/techday-tour-tenerife-12-diciembre-2012-
504/
LAST-MODIFIED:20121106T150801Z
LOCATION:Cámara de Comercio de Santa Cruz de Tenerife // Plaza de la Cande
laria nº6, 38003 Santa Cruz de Tenerife, Santa Cruz de Tenerife, España
SEQUENCE:0
STATUS:CONFIRMED
SUMMARY:Techday Tour - Tenerife
TRANSP:OPAQUE
END:VEVENT
END:VCALENDAR
