BEGIN:VCALENDAR
PRODID:-//hacksw/handcal//NONSGML v1.0//EN
VERSION:2.0
CALSCALE:GREGORIAN
METHOD:PUBLISH
X-WR-CALNAME:Microsoft Techday 2012
X-WR-TIMEZONE:Europe/Madrid
X-WR-CALDESC:Microsoft Techday 2012
BEGIN:VEVENT
DTSTART:20121122T083000Z
DTEND:20121122T170000Z
DTSTAMP:20121122T083000Z
UID:57f8ab68f5099c6ac68ac1308e6d124a@betabeers.com
CREATED:20121106T103652Z
DESCRIPTION:https://betabeers.com/en/event/microsoft-techday-2012-22-noviem
bre-2012-500/
URL:https://betabeers.com/en/event/microsoft-techday-2012-22-noviembre-2012
-500/
LAST-MODIFIED:20121106T103652Z
LOCATION:Teatro Goya -C.C. Barrio Art Decó- C/ Sepúlveda 3 y 5, 28011, MA
DRID, Madrid, España
SEQUENCE:0
STATUS:CONFIRMED
SUMMARY:Microsoft Techday 2012
TRANSP:OPAQUE
END:VEVENT
END:VCALENDAR
