BEGIN:VCALENDAR
PRODID:-//hacksw/handcal//NONSGML v1.0//EN
VERSION:2.0
CALSCALE:GREGORIAN
METHOD:PUBLISH
X-WR-CALNAME:Automatización de pruebas funcionales
X-WR-TIMEZONE:Europe/Madrid
X-WR-CALDESC:Automatización de pruebas funcionales
BEGIN:VEVENT
DTSTART:20121030T180000Z
DTEND:20121030T200000Z
DTSTAMP:20121030T180000Z
UID:e23364e5622528d9dad4ce781ef0453b@betabeers.com
CREATED:20121011T120534Z
DESCRIPTION:https://betabeers.com/en/event/automatizacion-pruebas-funcional
es-30-octubre-2012-448/
URL:https://betabeers.com/en/event/automatizacion-pruebas-funcionales-30-oc
tubre-2012-448/
LAST-MODIFIED:20121011T120534Z
LOCATION:Universidad de Deusto, Bilbao, España
SEQUENCE:0
STATUS:CONFIRMED
SUMMARY:Automatización de pruebas funcionales
TRANSP:OPAQUE
END:VEVENT
END:VCALENDAR
