BEGIN:VCALENDAR
PRODID:-//hacksw/handcal//NONSGML v1.0//EN
VERSION:2.0
CALSCALE:GREGORIAN
METHOD:PUBLISH
X-WR-CALNAME:Curso de HTML5
X-WR-TIMEZONE:Europe/Madrid
X-WR-CALDESC:Curso de HTML5
BEGIN:VEVENT
DTSTART:20121026T080000Z
DTEND:20121027T180000Z
DTSTAMP:20121026T080000Z
UID:3f56a272256a294df22bbb8a85a13df3@betabeers.com
CREATED:20121011T103243Z
DESCRIPTION:https://betabeers.com/en/event/curso-html5-26-octubre-2012-447/
URL:https://betabeers.com/en/event/curso-html5-26-octubre-2012-447/
LAST-MODIFIED:20121011T103243Z
LOCATION:Garaje C/ Matilde Díez, 11 28002 Madrid, Madrid, España
SEQUENCE:0
STATUS:CONFIRMED
SUMMARY:Curso de HTML5
TRANSP:OPAQUE
END:VEVENT
END:VCALENDAR
