BEGIN:VCALENDAR
PRODID:-//hacksw/handcal//NONSGML v1.0//EN
VERSION:2.0
CALSCALE:GREGORIAN
METHOD:PUBLISH
X-WR-CALNAME:Replicación MySQL
X-WR-TIMEZONE:Europe/Madrid
X-WR-CALDESC:Replicación MySQL
BEGIN:VEVENT
DTSTART:20121016T170000Z
DTEND:20121016T200000Z
DTSTAMP:20121016T170000Z
UID:3511af49cd8b0cf6fceda075c6097977@betabeers.com
CREATED:20121009T091538Z
DESCRIPTION:https://betabeers.com/en/event/replicacion-mysql-16-octubre-201
2-429/
URL:https://betabeers.com/en/event/replicacion-mysql-16-octubre-2012-429/
LAST-MODIFIED:20121009T091538Z
LOCATION:Tetuan Valley - Calle Bravo Murillo, 244, Madrid, España
SEQUENCE:0
STATUS:CONFIRMED
SUMMARY:Replicación MySQL
TRANSP:OPAQUE
END:VEVENT
END:VCALENDAR
