BEGIN:VCALENDAR
PRODID:-//hacksw/handcal//NONSGML v1.0//EN
VERSION:2.0
CALSCALE:GREGORIAN
METHOD:PUBLISH
X-WR-CALNAME:Windows Azure como plataforma de Cloud Computing
X-WR-TIMEZONE:Europe/Madrid
X-WR-CALDESC:Windows Azure como plataforma de Cloud Computing
BEGIN:VEVENT
DTSTART:20121106T080000Z
DTEND:20121106T130000Z
DTSTAMP:20121106T080000Z
UID:1458c39b783c3627eb33de5be8a2af55@betabeers.com
CREATED:20121008T150050Z
DESCRIPTION:https://betabeers.com/en/event/windows-azure-como-plataforma-cl
oud-computing-6-noviembre-2012-427/
URL:https://betabeers.com/en/event/windows-azure-como-plataforma-cloud-comp
uting-6-noviembre-2012-427/
LAST-MODIFIED:20121008T150050Z
LOCATION:ETIC-Embedded Technologies Innovation Center, Arrasate-Mondragon, 
España
SEQUENCE:0
STATUS:CONFIRMED
SUMMARY:Windows Azure como plataforma de Cloud Computing
TRANSP:OPAQUE
END:VEVENT
END:VCALENDAR
