BEGIN:VCALENDAR
PRODID:-//hacksw/handcal//NONSGML v1.0//EN
VERSION:2.0
CALSCALE:GREGORIAN
METHOD:PUBLISH
X-WR-CALNAME:Visual Studio Tour
X-WR-TIMEZONE:Europe/Madrid
X-WR-CALDESC:Visual Studio Tour
BEGIN:VEVENT
DTSTART:20121114T083000Z
DTEND:20121114T163000Z
DTSTAMP:20121114T083000Z
UID:57dcf47bc4fbbc6e94c51f12ba59d807@betabeers.com
CREATED:20121008T145204Z
DESCRIPTION:https://betabeers.com/en/event/visual-studio-tour-14-noviembre-
2012-426/
URL:https://betabeers.com/en/event/visual-studio-tour-14-noviembre-2012-426
/
LAST-MODIFIED:20121008T145204Z
LOCATION:Avda. Universidades, 24, Bilbao, España
SEQUENCE:0
STATUS:CONFIRMED
SUMMARY:Visual Studio Tour
TRANSP:OPAQUE
END:VEVENT
END:VCALENDAR
