BEGIN:VCALENDAR
PRODID:-//hacksw/handcal//NONSGML v1.0//EN
VERSION:2.0
CALSCALE:GREGORIAN
METHOD:PUBLISH
X-WR-CALNAME:1er Game Art Meeting BCN
X-WR-TIMEZONE:Europe/Madrid
X-WR-CALDESC:1er Game Art Meeting BCN
BEGIN:VEVENT
DTSTART:20120921T160000Z
DTEND:20120921T190000Z
DTSTAMP:20120921T160000Z
UID:5bfd38c0149fa4f06ad4fedf935f7f98@betabeers.com
CREATED:20120914T122843Z
DESCRIPTION:https://betabeers.com/en/event/1er-game-art-meeting-bcn-406/
URL:https://betabeers.com/en/event/1er-game-art-meeting-bcn-406/
LAST-MODIFIED:20120914T122843Z
LOCATION:Viena (Calle Pelayo 16), Barcelona, España
SEQUENCE:0
STATUS:CONFIRMED
SUMMARY:1er Game Art Meeting BCN
TRANSP:OPAQUE
END:VEVENT
END:VCALENDAR
