BEGIN:VCALENDAR
PRODID:-//hacksw/handcal//NONSGML v1.0//EN
VERSION:2.0
CALSCALE:GREGORIAN
METHOD:PUBLISH
X-WR-CALNAME:NoSQL Matters Barcelona 2012
X-WR-TIMEZONE:Europe/Madrid
X-WR-CALDESC:NoSQL Matters Barcelona 2012
BEGIN:VEVENT
DTSTART:20121006T080000Z
DTEND:20121006T170000Z
DTSTAMP:20121006T080000Z
UID:8531396916a2e00063a9e27cc75cd106@betabeers.com
CREATED:20120904T093421Z
DESCRIPTION:https://betabeers.com/en/event/nosql-matters-barcelona-2012-388
/
URL:https://betabeers.com/en/event/nosql-matters-barcelona-2012-388/
LAST-MODIFIED:20120904T093421Z
LOCATION:Casa Convalescència C/ Sant Antoni Maria Claret 171, Barcelona, E
spaña
SEQUENCE:0
STATUS:CONFIRMED
SUMMARY:NoSQL Matters Barcelona 2012
TRANSP:OPAQUE
END:VEVENT
END:VCALENDAR
