BEGIN:VCALENDAR
PRODID:-//hacksw/handcal//NONSGML v1.0//EN
VERSION:2.0
CALSCALE:GREGORIAN
METHOD:PUBLISH
X-WR-CALNAME:Workshop: Responsive Web Design
X-WR-TIMEZONE:Europe/Madrid
X-WR-CALDESC:Workshop: Responsive Web Design
BEGIN:VEVENT
DTSTART:20120915T090000Z
DTEND:20120915T183000Z
DTSTAMP:20120915T090000Z
UID:4837101cdd34d163d5fd379c1d105d9d@betabeers.com
CREATED:20120723T200004Z
DESCRIPTION:https://betabeers.com/en/event/workshop-responsive-web-design-1
5-septiembre-2012-372/
URL:https://betabeers.com/en/event/workshop-responsive-web-design-15-septie
mbre-2012-372/
LAST-MODIFIED:20120723T200004Z
LOCATION:Calle Duque de Rivas, 5 28012, Madrid, España
SEQUENCE:0
STATUS:CONFIRMED
SUMMARY:Workshop: Responsive Web Design
TRANSP:OPAQUE
END:VEVENT
END:VCALENDAR
