BEGIN:VCALENDAR
PRODID:-//hacksw/handcal//NONSGML v1.0//EN
VERSION:2.0
CALSCALE:GREGORIAN
METHOD:PUBLISH
X-WR-CALNAME:Workshop: Responsive Web Design
X-WR-TIMEZONE:Europe/Madrid
X-WR-CALDESC:Workshop: Responsive Web Design
BEGIN:VEVENT
DTSTART:20120929T090000Z
DTEND:20120929T183000Z
DTSTAMP:20120929T090000Z
UID:51de77d4c9a9502e1620b747c761bca7@betabeers.com
CREATED:20120723T195413Z
DESCRIPTION:https://betabeers.com/en/event/workshop-responsive-web-design-2
9-septiembre-2012-371/
URL:https://betabeers.com/en/event/workshop-responsive-web-design-29-septie
mbre-2012-371/
LAST-MODIFIED:20120723T195413Z
LOCATION:Bailen, 11, 08010, Barcelona, España
SEQUENCE:0
STATUS:CONFIRMED
SUMMARY:Workshop: Responsive Web Design
TRANSP:OPAQUE
END:VEVENT
END:VCALENDAR
