BEGIN:VCALENDAR
PRODID:-//hacksw/handcal//NONSGML v1.0//EN
VERSION:2.0
CALSCALE:GREGORIAN
METHOD:PUBLISH
X-WR-CALNAME:Introducción a CoreAnimation
X-WR-TIMEZONE:Europe/Madrid
X-WR-CALDESC:Introducción a CoreAnimation
BEGIN:VEVENT
DTSTART:20120720T170000Z
DTEND:20120720T183000Z
DTSTAMP:20120720T170000Z
UID:8061e767a01e6a4a7fa62cc289a181d0@betabeers.com
CREATED:20120717T104658Z
DESCRIPTION:https://betabeers.com/en/event/introduccion-a-coreanimation-20-
julio-2012-366/
URL:https://betabeers.com/en/event/introduccion-a-coreanimation-20-julio-20
12-366/
LAST-MODIFIED:20120717T104658Z
LOCATION:Madrid on Rails, Calle Lago Titicaca 10 Vicálvaro, Madrid, Españ
a
SEQUENCE:0
STATUS:CONFIRMED
SUMMARY:Introducción a CoreAnimation
TRANSP:OPAQUE
END:VEVENT
END:VCALENDAR
