BEGIN:VCALENDAR
PRODID:-//hacksw/handcal//NONSGML v1.0//EN
VERSION:2.0
CALSCALE:GREGORIAN
METHOD:PUBLISH
X-WR-CALNAME:Curso iOS iPhone/iPad: Básico | Barcelona
X-WR-TIMEZONE:Europe/Madrid
X-WR-CALDESC:Curso iOS iPhone/iPad: Básico | Barcelona
BEGIN:VEVENT
DTSTART:20121005T140000Z
DTEND:20121007T180000Z
DTSTAMP:20121005T140000Z
UID:ff1902f71ac4c3d11b2767b3b38b017d@betabeers.com
CREATED:20120706T151809Z
DESCRIPTION:https://betabeers.com/en/event/curso-ios-iphone-ipad-basico-bar
celona-5-octubre-2012-357/
URL:https://betabeers.com/en/event/curso-ios-iphone-ipad-basico-barcelona-5
-octubre-2012-357/
LAST-MODIFIED:20120706T151809Z
LOCATION:Passeig de l'Exposició, 56, 08004, Barcelona, España
SEQUENCE:0
STATUS:CONFIRMED
SUMMARY:Curso iOS iPhone/iPad: Básico | Barcelona
TRANSP:OPAQUE
END:VEVENT
END:VCALENDAR
