BEGIN:VCALENDAR
PRODID:-//hacksw/handcal//NONSGML v1.0//EN
VERSION:2.0
CALSCALE:GREGORIAN
METHOD:PUBLISH
X-WR-CALNAME:Curso iOS iPhone/iPad: Intermedio
X-WR-TIMEZONE:Europe/Madrid
X-WR-CALDESC:Curso iOS iPhone/iPad: Intermedio
BEGIN:VEVENT
DTSTART:20120713T140000Z
DTEND:20120715T180000Z
DTSTAMP:20120713T140000Z
UID:6ecd24e2995d2477b40f8d8a522fbec3@betabeers.com
CREATED:20120706T140005Z
DESCRIPTION:https://betabeers.com/en/event/curso-ios-iphone-ipad-intermedio
-13-julio-2012-356/
URL:https://betabeers.com/en/event/curso-ios-iphone-ipad-intermedio-13-juli
o-2012-356/
LAST-MODIFIED:20120706T140005Z
LOCATION:Passeig de l'Exposició, 56, 08004, Barcelona, España
SEQUENCE:0
STATUS:CONFIRMED
SUMMARY:Curso iOS iPhone/iPad: Intermedio
TRANSP:OPAQUE
END:VEVENT
END:VCALENDAR
