BEGIN:VCALENDAR
PRODID:-//hacksw/handcal//NONSGML v1.0//EN
VERSION:2.0
CALSCALE:GREGORIAN
METHOD:PUBLISH
X-WR-CALNAME:Curso iOS iPhone/iPad: Básico | Madrid
X-WR-TIMEZONE:Europe/Madrid
X-WR-CALDESC:Curso iOS iPhone/iPad: Básico | Madrid
BEGIN:VEVENT
DTSTART:20120824T140000Z
DTEND:20120826T180000Z
DTSTAMP:20120824T140000Z
UID:1d7a54cddfac11b54ae02a44a571021e@betabeers.com
CREATED:20120706T134841Z
DESCRIPTION:https://betabeers.com/en/event/curso-ios-iphone-ipad-basico-mad
rid-24-agosto-2012-355/
URL:https://betabeers.com/en/event/curso-ios-iphone-ipad-basico-madrid-24-a
gosto-2012-355/
LAST-MODIFIED:20120706T134841Z
LOCATION:Avda. de Fuencarral, 44, 28108, Madrid, España
SEQUENCE:0
STATUS:CONFIRMED
SUMMARY:Curso iOS iPhone/iPad: Básico | Madrid
TRANSP:OPAQUE
END:VEVENT
END:VCALENDAR
