BEGIN:VCALENDAR
PRODID:-//hacksw/handcal//NONSGML v1.0//EN
VERSION:2.0
CALSCALE:GREGORIAN
METHOD:PUBLISH
X-WR-CALNAME:GTUG Barcelona
X-WR-TIMEZONE:Europe/Madrid
X-WR-CALDESC:GTUG Barcelona
BEGIN:VEVENT
DTSTART:20120613T171000Z
DTEND:20120613T181000Z
DTSTAMP:20120613T171000Z
UID:a013f077e6b07e17ccec47ba052f4234@betabeers.com
CREATED:20120611T100220Z
DESCRIPTION:https://betabeers.com/en/event/gtug-barcelona-13-junio-2012-312
/
URL:https://betabeers.com/en/event/gtug-barcelona-13-junio-2012-312/
LAST-MODIFIED:20120611T100220Z
LOCATION:UPC, Calle Jordi Girona, 31, Barcelona, España
SEQUENCE:0
STATUS:CONFIRMED
SUMMARY:GTUG Barcelona
TRANSP:OPAQUE
END:VEVENT
END:VCALENDAR
