BEGIN:VCALENDAR
PRODID:-//hacksw/handcal//NONSGML v1.0//EN
VERSION:2.0
CALSCALE:GREGORIAN
METHOD:PUBLISH
X-WR-CALNAME:Spain.js 2012
X-WR-TIMEZONE:Europe/Madrid
X-WR-CALDESC:Spain.js 2012
BEGIN:VEVENT
DTSTART:20120705T060000Z
DTEND:20120707T060000Z
DTSTAMP:20120705T060000Z
UID:6848ac24f33eb9252bee5a5a0c84d5e0@betabeers.com
CREATED:20120607T164624Z
DESCRIPTION:https://betabeers.com/en/event/spainjs-2012-307/
URL:https://betabeers.com/en/event/spainjs-2012-307/
LAST-MODIFIED:20120607T164624Z
LOCATION:Sala Camon, Plaza Madrid Moncloa, 1, Madrid, España
SEQUENCE:0
STATUS:CONFIRMED
SUMMARY:Spain.js 2012
TRANSP:OPAQUE
END:VEVENT
END:VCALENDAR
