BEGIN:VCALENDAR
PRODID:-//hacksw/handcal//NONSGML v1.0//EN
VERSION:2.0
CALSCALE:GREGORIAN
METHOD:PUBLISH
X-WR-CALNAME:Buenos Aires Front-end Meetup - Agosto 2015 - BAFrontend
X-WR-TIMEZONE:Europe/Madrid
X-WR-CALDESC:Buenos Aires Front-end Meetup - Agosto 2015 - BAFrontend
BEGIN:VEVENT
DTSTART:20150819T233000Z
DTEND:20150820T003000Z
DTSTAMP:20150819T233000Z
UID:bc3d56eefe43026e160bf1de12f3b29e@betabeers.com
CREATED:20150815T210144Z
DESCRIPTION:https://betabeers.com/en/event/buenos-aires-front-end-meetup-ag
osto-2015-bafrontend-20-agosto-2015-2983/
URL:https://betabeers.com/en/event/buenos-aires-front-end-meetup-agosto-201
5-bafrontend-20-agosto-2015-2983/
LAST-MODIFIED:20150815T210144Z
LOCATION:-, Buenos Aires, Argentina
SEQUENCE:0
STATUS:CONFIRMED
SUMMARY:Buenos Aires Front-end Meetup - Agosto 2015 - BAFrontend
TRANSP:OPAQUE
END:VEVENT
END:VCALENDAR
