BEGIN:VCALENDAR
PRODID:-//hacksw/handcal//NONSGML v1.0//EN
VERSION:2.0
CALSCALE:GREGORIAN
METHOD:PUBLISH
X-WR-CALNAME:Grupy-SP - Encontro Grupy-SP de Agosto - G4 Solutions
X-WR-TIMEZONE:Europe/Madrid
X-WR-CALDESC:Grupy-SP - Encontro Grupy-SP de Agosto - G4 Solutions
BEGIN:VEVENT
DTSTART:20150822T130000Z
DTEND:20150822T140000Z
DTSTAMP:20150822T130000Z
UID:79c7c4b62d3b88be194e1292e1fc6c19@betabeers.com
CREATED:20150815T210141Z
DESCRIPTION:https://betabeers.com/en/event/grupy-sp-encontro-grupy-sp-agost
o-g4-solutions-22-agosto-2015-2981/
URL:https://betabeers.com/en/event/grupy-sp-encontro-grupy-sp-agosto-g4-sol
utions-22-agosto-2015-2981/
LAST-MODIFIED:20150815T210141Z
LOCATION:Avenida Rudge, 315, Sao Paulo, Brasil
SEQUENCE:0
STATUS:CONFIRMED
SUMMARY:Grupy-SP - Encontro Grupy-SP de Agosto - G4 Solutions
TRANSP:OPAQUE
END:VEVENT
END:VCALENDAR
