BEGIN:VCALENDAR
PRODID:-//hacksw/handcal//NONSGML v1.0//EN
VERSION:2.0
CALSCALE:GREGORIAN
METHOD:PUBLISH
X-WR-CALNAME:Google Developers Group - Belo Horizonte - Encontro Women Techmakers
X-WR-TIMEZONE:Europe/Madrid
X-WR-CALDESC:Google Developers Group - Belo Horizonte - Encontro Women Techmakers
BEGIN:VEVENT
DTSTART:20150819T230000Z
DTEND:20150820T000000Z
DTSTAMP:20150819T230000Z
UID:10a7bfc4d01c620504065969be65ceaf@betabeers.com
CREATED:20150815T210140Z
DESCRIPTION:https://betabeers.com/en/event/google-developers-group-belo-hor
izonte-encontro-women-techmakers-20-agosto-2015-2980/
URL:https://betabeers.com/en/event/google-developers-group-belo-horizonte-e
ncontro-women-techmakers-20-agosto-2015-2980/
LAST-MODIFIED:20150815T210140Z
LOCATION:Av. Álvares Cabral, 1315 - Lourdes, Belo Horizonte, Brasil
SEQUENCE:0
STATUS:CONFIRMED
SUMMARY:Google Developers Group - Belo Horizonte - Encontro Women Techmaker
s
TRANSP:OPAQUE
END:VEVENT
END:VCALENDAR
