BEGIN:VCALENDAR
PRODID:-//hacksw/handcal//NONSGML v1.0//EN
VERSION:2.0
CALSCALE:GREGORIAN
METHOD:PUBLISH
X-WR-CALNAME:GDG-SP - HTML5 Study Group #11
X-WR-TIMEZONE:Europe/Madrid
X-WR-CALDESC:GDG-SP - HTML5 Study Group #11
BEGIN:VEVENT
DTSTART:20150817T230000Z
DTEND:20150818T000000Z
DTSTAMP:20150817T230000Z
UID:22f0f0a80bf8940cfd9e6d4e9e008c1e@betabeers.com
CREATED:20150815T210139Z
DESCRIPTION:https://betabeers.com/en/event/gdg-sp-html5-study-group-11-18-a
gosto-2015-2979/
URL:https://betabeers.com/en/event/gdg-sp-html5-study-group-11-18-agosto-20
15-2979/
LAST-MODIFIED:20150815T210139Z
LOCATION:-, Sao Paulo, Brasil
SEQUENCE:0
STATUS:CONFIRMED
SUMMARY:GDG-SP - HTML5 Study Group #11
TRANSP:OPAQUE
END:VEVENT
END:VCALENDAR
