BEGIN:VCALENDAR
PRODID:-//hacksw/handcal//NONSGML v1.0//EN
VERSION:2.0
CALSCALE:GREGORIAN
METHOD:PUBLISH
X-WR-CALNAME:Barcelona Software Craftsmanship - Discussion about Martin Fowler's articles Yagni and Is Design Dead?
X-WR-TIMEZONE:Europe/Madrid
X-WR-CALDESC:Barcelona Software Craftsmanship - Discussion about Martin Fowler's articles Yagni and Is Design Dead?
BEGIN:VEVENT
DTSTART:20150803T180000Z
DTEND:20150803T190000Z
DTSTAMP:20150803T180000Z
UID:c3434bde182e50446c95161fd9d54d52@betabeers.com
CREATED:20150801T210118Z
DESCRIPTION:https://betabeers.com/en/event/barcelona-software-craftsmanship
-discussion-about-martin-fowlers-articles-yagni-and-is-design-dead-3-agosto
-2015-2952/
URL:https://betabeers.com/en/event/barcelona-software-craftsmanship-discuss
ion-about-martin-fowlers-articles-yagni-and-is-design-dead-3-agosto-2015-29
52/
LAST-MODIFIED:20150801T210118Z
LOCATION:C/Galileu 1-3, Barcelona, España
SEQUENCE:0
STATUS:CONFIRMED
SUMMARY:Barcelona Software Craftsmanship - Discussion about Martin Fowler's
 articles Yagni and Is Design Dead?
TRANSP:OPAQUE
END:VEVENT
END:VCALENDAR
