BEGIN:VCALENDAR
PRODID:-//hacksw/handcal//NONSGML v1.0//EN
VERSION:2.0
CALSCALE:GREGORIAN
METHOD:PUBLISH
X-WR-CALNAME:Docker Buenos Aires - Docker Meetup #5 @Medallia
X-WR-TIMEZONE:Europe/Madrid
X-WR-CALDESC:Docker Buenos Aires - Docker Meetup #5 @Medallia
BEGIN:VEVENT
DTSTART:20150813T223000Z
DTEND:20150813T233000Z
DTSTAMP:20150813T223000Z
UID:90e1f42454abf2ac99af890d2079ca68@betabeers.com
CREATED:20150801T210111Z
DESCRIPTION:https://betabeers.com/en/event/docker-buenos-aires-docker-meetu
p-5-medallia-13-agosto-2015-2950/
URL:https://betabeers.com/en/event/docker-buenos-aires-docker-meetup-5-meda
llia-13-agosto-2015-2950/
LAST-MODIFIED:20150801T210111Z
LOCATION:Humboldt 1550, 3er piso oficina 313, Buenos Aires, Argentina
SEQUENCE:0
STATUS:CONFIRMED
SUMMARY:Docker Buenos Aires - Docker Meetup #5 @Medallia
TRANSP:OPAQUE
END:VEVENT
END:VCALENDAR
