BEGIN:VCALENDAR
PRODID:-//hacksw/handcal//NONSGML v1.0//EN
VERSION:2.0
CALSCALE:GREGORIAN
METHOD:PUBLISH
X-WR-CALNAME:Zaragoza Salesforce Developer Group - Trailhead Summer Party!
X-WR-TIMEZONE:Europe/Madrid
X-WR-CALDESC:Zaragoza Salesforce Developer Group - Trailhead Summer Party!
BEGIN:VEVENT
DTSTART:20150801T114500Z
DTEND:20150801T124500Z
DTSTAMP:20150801T114500Z
UID:ede1b0c13654763593bb6681b520e2ab@betabeers.com
CREATED:20150725T210118Z
DESCRIPTION:https://betabeers.com/en/event/zaragoza-salesforce-developer-gr
oup-trailhead-summer-party-1-agosto-2015-2918/
URL:https://betabeers.com/en/event/zaragoza-salesforce-developer-group-trai
lhead-summer-party-1-agosto-2015-2918/
LAST-MODIFIED:20150725T210118Z
LOCATION:Calle Bruno Solano, 16, Zaragoza, España
SEQUENCE:0
STATUS:CONFIRMED
SUMMARY:Zaragoza Salesforce Developer Group - Trailhead Summer Party!
TRANSP:OPAQUE
END:VEVENT
END:VCALENDAR
