BEGIN:VCALENDAR
PRODID:-//hacksw/handcal//NONSGML v1.0//EN
VERSION:2.0
CALSCALE:GREGORIAN
METHOD:PUBLISH
X-WR-CALNAME:Node Sol - Hablar de node!
X-WR-TIMEZONE:Europe/Madrid
X-WR-CALDESC:Node Sol - Hablar de node!
BEGIN:VEVENT
DTSTART:20150710T083000Z
DTEND:20150710T093000Z
DTSTAMP:20150710T083000Z
UID:52928a4df93eb01392d6c5ed9244e02b@betabeers.com
CREATED:20150704T230117Z
DESCRIPTION:https://betabeers.com/en/event/node-sol-hablar-node-10-julio-20
15-2879/
URL:https://betabeers.com/en/event/node-sol-hablar-node-10-julio-2015-2879/
LAST-MODIFIED:20150704T230117Z
LOCATION:severo ochoa, 27, Malaga, España
SEQUENCE:0
STATUS:CONFIRMED
SUMMARY:Node Sol - Hablar de node!
TRANSP:OPAQUE
END:VEVENT
END:VCALENDAR
