BEGIN:VCALENDAR
PRODID:-//hacksw/handcal//NONSGML v1.0//EN
VERSION:2.0
CALSCALE:GREGORIAN
METHOD:PUBLISH
X-WR-CALNAME:Docker Buenos Aires - Docker Meetup #4 @Medallia
X-WR-TIMEZONE:Europe/Madrid
X-WR-CALDESC:Docker Buenos Aires - Docker Meetup #4 @Medallia
BEGIN:VEVENT
DTSTART:20150716T223000Z
DTEND:20150716T233000Z
DTSTAMP:20150716T223000Z
UID:df3d88d7049c2ee323abf4abe40eade6@betabeers.com
CREATED:20150704T230109Z
DESCRIPTION:https://betabeers.com/en/event/docker-buenos-aires-docker-meetu
p-4-medallia-16-julio-2015-2876/
URL:https://betabeers.com/en/event/docker-buenos-aires-docker-meetup-4-meda
llia-16-julio-2015-2876/
LAST-MODIFIED:20150704T230109Z
LOCATION:Humboldt 1550, 3er piso oficina 313, Buenos Aires, Argentina
SEQUENCE:0
STATUS:CONFIRMED
SUMMARY:Docker Buenos Aires - Docker Meetup #4 @Medallia
TRANSP:OPAQUE
END:VEVENT
END:VCALENDAR
