BEGIN:VCALENDAR
PRODID:-//hacksw/handcal//NONSGML v1.0//EN
VERSION:2.0
CALSCALE:GREGORIAN
METHOD:PUBLISH
X-WR-CALNAME:ZehnWorking julio 2015 - Motores de juegos
X-WR-TIMEZONE:Europe/Madrid
X-WR-CALDESC:ZehnWorking julio 2015 - Motores de juegos
BEGIN:VEVENT
DTSTART:20150716T174500Z
DTEND:20150716T180000Z
DTSTAMP:20150716T174500Z
UID:1836e6d4afb0c4501654043ad4711da5@betabeers.com
CREATED:20150703T092347Z
DESCRIPTION:https://betabeers.com/en/event/zehnworking-julio-2015-motores-j
uegos-2860/
URL:https://betabeers.com/en/event/zehnworking-julio-2015-motores-juegos-28
60/
LAST-MODIFIED:20150703T092347Z
LOCATION:Carrer Diputació 231, Barcelona, España
SEQUENCE:0
STATUS:CONFIRMED
SUMMARY:ZehnWorking julio 2015 - Motores de juegos
TRANSP:OPAQUE
END:VEVENT
END:VCALENDAR
