BEGIN:VCALENDAR
PRODID:-//hacksw/handcal//NONSGML v1.0//EN
VERSION:2.0
CALSCALE:GREGORIAN
METHOD:PUBLISH
X-WR-CALNAME:Ember.js Barcelona - EmberJS BCN reload
X-WR-TIMEZONE:Europe/Madrid
X-WR-CALDESC:Ember.js Barcelona - EmberJS BCN reload
BEGIN:VEVENT
DTSTART:20150708T180000Z
DTEND:20150708T190000Z
DTSTAMP:20150708T180000Z
UID:1a2dffc73d665cc89eea225db85fe97e@betabeers.com
CREATED:20150620T230046Z
DESCRIPTION:https://betabeers.com/en/event/emberjs-barcelona-emberjs-bcn-re
load-8-julio-2015-2828/
URL:https://betabeers.com/en/event/emberjs-barcelona-emberjs-bcn-reload-8-j
ulio-2015-2828/
LAST-MODIFIED:20150620T230046Z
LOCATION:Carrer Napols, 187, 7a planta, Barcelona, Barcelona, España
SEQUENCE:0
STATUS:CONFIRMED
SUMMARY:Ember.js Barcelona - EmberJS BCN reload
TRANSP:OPAQUE
END:VEVENT
END:VCALENDAR
