BEGIN:VCALENDAR
PRODID:-//hacksw/handcal//NONSGML v1.0//EN
VERSION:2.0
CALSCALE:GREGORIAN
METHOD:PUBLISH
X-WR-CALNAME:North Spain Salesforce Developer Group - Campamento Trailhead Summer
X-WR-TIMEZONE:Europe/Madrid
X-WR-CALDESC:North Spain Salesforce Developer Group - Campamento Trailhead Summer
BEGIN:VEVENT
DTSTART:20150626T153000Z
DTEND:20150626T163000Z
DTSTAMP:20150626T153000Z
UID:3ddce2df0049971dcf15db2b417b5dd3@betabeers.com
CREATED:20150613T230118Z
DESCRIPTION:https://betabeers.com/en/event/north-spain-salesforce-developer
-group-campamento-trailhead-summer-26-junio-2015-2808/
URL:https://betabeers.com/en/event/north-spain-salesforce-developer-group-c
ampamento-trailhead-summer-26-junio-2015-2808/
LAST-MODIFIED:20150613T230118Z
LOCATION:c/ San Vicente 5, 1ºIzq, Bilbao, España
SEQUENCE:0
STATUS:CONFIRMED
SUMMARY:North Spain Salesforce Developer Group - Campamento Trailhead Summe
r
TRANSP:OPAQUE
END:VEVENT
END:VCALENDAR
