BEGIN:VCALENDAR
PRODID:-//hacksw/handcal//NONSGML v1.0//EN
VERSION:2.0
CALSCALE:GREGORIAN
METHOD:PUBLISH
X-WR-CALNAME:Docker Logroño - Docker for dummies
X-WR-TIMEZONE:Europe/Madrid
X-WR-CALDESC:Docker Logroño - Docker for dummies
BEGIN:VEVENT
DTSTART:20150619T150000Z
DTEND:20150619T160000Z
DTSTAMP:20150619T150000Z
UID:a905bc7bea1d08024ebd77b8acc878c6@betabeers.com
CREATED:20150613T230114Z
DESCRIPTION:https://betabeers.com/en/event/docker-logrono-docker-for-dummie
s-2807/
URL:https://betabeers.com/en/event/docker-logrono-docker-for-dummies-2807/
LAST-MODIFIED:20150613T230114Z
LOCATION:Calle Mazo, 11 26200 Haro La Rioja, Logroño, España
SEQUENCE:0
STATUS:CONFIRMED
SUMMARY:Docker Logroño - Docker for dummies
TRANSP:OPAQUE
END:VEVENT
END:VCALENDAR
