BEGIN:VCALENDAR
PRODID:-//hacksw/handcal//NONSGML v1.0//EN
VERSION:2.0
CALSCALE:GREGORIAN
METHOD:PUBLISH
X-WR-CALNAME:Ember.js Barcelona - EmberJS BCN reload
X-WR-TIMEZONE:Europe/Madrid
X-WR-CALDESC:Ember.js Barcelona - EmberJS BCN reload
BEGIN:VEVENT
DTSTART:20150709T180000Z
DTEND:20150709T190000Z
DTSTAMP:20150709T180000Z
UID:39e2222f9b614b5f28fd068e52cd7d5b@betabeers.com
CREATED:20150613T230052Z
DESCRIPTION:https://betabeers.com/en/event/emberjs-barcelona-emberjs-bcn-re
load-9-julio-2015-2804/
URL:https://betabeers.com/en/event/emberjs-barcelona-emberjs-bcn-reload-9-j
ulio-2015-2804/
LAST-MODIFIED:20150613T230052Z
LOCATION:Carrer Napols, 187, 7a planta, Barcelona, Barcelona, España
SEQUENCE:0
STATUS:CONFIRMED
SUMMARY:Ember.js Barcelona - EmberJS BCN reload
TRANSP:OPAQUE
END:VEVENT
END:VCALENDAR
