BEGIN:VCALENDAR
PRODID:-//hacksw/handcal//NONSGML v1.0//EN
VERSION:2.0
CALSCALE:GREGORIAN
METHOD:PUBLISH
X-WR-CALNAME:Barcelona MongoDB User Group - MongoDB 3.0 + Introduction to Sharding + MongoDB World Recap
X-WR-TIMEZONE:Europe/Madrid
X-WR-CALDESC:Barcelona MongoDB User Group - MongoDB 3.0 + Introduction to Sharding + MongoDB World Recap
BEGIN:VEVENT
DTSTART:20150629T173000Z
DTEND:20150629T183000Z
DTSTAMP:20150629T173000Z
UID:e75436716dd2e1775e364f946baf26e6@betabeers.com
CREATED:20150613T230051Z
DESCRIPTION:https://betabeers.com/en/event/barcelona-mongodb-user-group-mon
godb-30-introduction-to-sharding-mongodb-world-recap-29-junio-2015-2803/
URL:https://betabeers.com/en/event/barcelona-mongodb-user-group-mongodb-30-
introduction-to-sharding-mongodb-world-recap-29-junio-2015-2803/
LAST-MODIFIED:20150613T230051Z
LOCATION:Plaça de Catalunya 1, 08002, Barcelona, España
SEQUENCE:0
STATUS:CONFIRMED
SUMMARY:Barcelona MongoDB User Group - MongoDB 3.0 + Introduction to Shardi
ng + MongoDB World Recap
TRANSP:OPAQUE
END:VEVENT
END:VCALENDAR
