BEGIN:VCALENDAR
PRODID:-//hacksw/handcal//NONSGML v1.0//EN
VERSION:2.0
CALSCALE:GREGORIAN
METHOD:PUBLISH
X-WR-CALNAME:Ironhack OpenHouse Barcelona - Aitor Guevara's Talk
X-WR-TIMEZONE:Europe/Madrid
X-WR-CALDESC:Ironhack OpenHouse Barcelona - Aitor Guevara's Talk
BEGIN:VEVENT
DTSTART:20150617T080000Z
DTEND:20150617T183000Z
DTSTAMP:20150617T080000Z
UID:936a56e66a2bc6e16f7c63239cb176e8@betabeers.com
CREATED:20150613T104809Z
DESCRIPTION:https://betabeers.com/en/event/ironhack-openhouse-barcelona-ait
or-guevaras-talk-2797/
URL:https://betabeers.com/en/event/ironhack-openhouse-barcelona-aitor-gueva
ras-talk-2797/
LAST-MODIFIED:20150613T104809Z
LOCATION:Carrer de Bailèn, 11, Barcelona, España
SEQUENCE:0
STATUS:CONFIRMED
SUMMARY:Ironhack OpenHouse Barcelona - Aitor Guevara's Talk
TRANSP:OPAQUE
END:VEVENT
END:VCALENDAR
