BEGIN:VCALENDAR
PRODID:-//hacksw/handcal//NONSGML v1.0//EN
VERSION:2.0
CALSCALE:GREGORIAN
METHOD:PUBLISH
X-WR-CALNAME:Big Data Valencia - Data Scientiest Meeting - Big Data Days Meeting
X-WR-TIMEZONE:Europe/Madrid
X-WR-CALDESC:Big Data Valencia - Data Scientiest Meeting - Big Data Days Meeting
BEGIN:VEVENT
DTSTART:20150625T190000Z
DTEND:20150625T200000Z
DTSTAMP:20150625T190000Z
UID:7525f0ddf2533673c9ddf4834a3a6c31@betabeers.com
CREATED:20150606T230134Z
DESCRIPTION:https://betabeers.com/en/event/big-data-valencia-data-scienties
t-meeting-big-data-days-meeting-25-junio-2015-2788/
URL:https://betabeers.com/en/event/big-data-valencia-data-scientiest-meetin
g-big-data-days-meeting-25-junio-2015-2788/
LAST-MODIFIED:20150606T230134Z
LOCATION:C/ de Juan Verdeguer 16, Valencia, España
SEQUENCE:0
STATUS:CONFIRMED
SUMMARY:Big Data Valencia - Data Scientiest Meeting - Big Data Days Meeting
TRANSP:OPAQUE
END:VEVENT
END:VCALENDAR
