BEGIN:VCALENDAR
PRODID:-//hacksw/handcal//NONSGML v1.0//EN
VERSION:2.0
CALSCALE:GREGORIAN
METHOD:PUBLISH
X-WR-CALNAME:Node Sol - Hablar de node!
X-WR-TIMEZONE:Europe/Madrid
X-WR-CALDESC:Node Sol - Hablar de node!
BEGIN:VEVENT
DTSTART:20150612T083000Z
DTEND:20150612T093000Z
DTSTAMP:20150612T083000Z
UID:faabee331045b614011f677a00f3a8b2@betabeers.com
CREATED:20150606T230120Z
DESCRIPTION:https://betabeers.com/en/event/node-sol-hablar-node-12-junio-20
15-2786/
URL:https://betabeers.com/en/event/node-sol-hablar-node-12-junio-2015-2786/
LAST-MODIFIED:20150606T230120Z
LOCATION:severo ochoa, 27, Malaga, España
SEQUENCE:0
STATUS:CONFIRMED
SUMMARY:Node Sol - Hablar de node!
TRANSP:OPAQUE
END:VEVENT
END:VCALENDAR
