BEGIN:VCALENDAR
PRODID:-//hacksw/handcal//NONSGML v1.0//EN
VERSION:2.0
CALSCALE:GREGORIAN
METHOD:PUBLISH
X-WR-CALNAME:Barcelona Software Craftsmanship - Discuss about the SCBCN15
X-WR-TIMEZONE:Europe/Madrid
X-WR-CALDESC:Barcelona Software Craftsmanship - Discuss about the SCBCN15
BEGIN:VEVENT
DTSTART:20150622T180000Z
DTEND:20150622T190000Z
DTSTAMP:20150622T180000Z
UID:cc8ba2b4be8b629a9cdeff5909be5b16@betabeers.com
CREATED:20150606T230119Z
DESCRIPTION:https://betabeers.com/en/event/barcelona-software-craftsmanship
-discuss-about-the-scbcn15-22-junio-2015-2785/
URL:https://betabeers.com/en/event/barcelona-software-craftsmanship-discuss
-about-the-scbcn15-22-junio-2015-2785/
LAST-MODIFIED:20150606T230119Z
LOCATION:-, Barcelona, España
SEQUENCE:0
STATUS:CONFIRMED
SUMMARY:Barcelona Software Craftsmanship - Discuss about the SCBCN15
TRANSP:OPAQUE
END:VEVENT
END:VCALENDAR
