BEGIN:VCALENDAR
PRODID:-//hacksw/handcal//NONSGML v1.0//EN
VERSION:2.0
CALSCALE:GREGORIAN
METHOD:PUBLISH
X-WR-CALNAME:WordPress Barcelona - WordPress para Bloggers y Periodistas
X-WR-TIMEZONE:Europe/Madrid
X-WR-CALDESC:WordPress Barcelona - WordPress para Bloggers y Periodistas
BEGIN:VEVENT
DTSTART:20150630T180000Z
DTEND:20150630T190000Z
DTSTAMP:20150630T180000Z
UID:d9ecaac765b6e1e387976eec77045d8e@betabeers.com
CREATED:20150606T230111Z
DESCRIPTION:https://betabeers.com/en/event/wordpress-barcelona-wordpress-bl
oggers-periodistas-30-junio-2015-2783/
URL:https://betabeers.com/en/event/wordpress-barcelona-wordpress-bloggers-p
eriodistas-30-junio-2015-2783/
LAST-MODIFIED:20150606T230111Z
LOCATION:Fontanella 2, Barcelona, España
SEQUENCE:0
STATUS:CONFIRMED
SUMMARY:WordPress Barcelona - WordPress para Bloggers y Periodistas
TRANSP:OPAQUE
END:VEVENT
END:VCALENDAR
