BEGIN:VCALENDAR
PRODID:-//hacksw/handcal//NONSGML v1.0//EN
VERSION:2.0
CALSCALE:GREGORIAN
METHOD:PUBLISH
X-WR-CALNAME:Scala Developers Barcelona - [ADV] Implicits, pimp my library & typeclasses
X-WR-TIMEZONE:Europe/Madrid
X-WR-CALDESC:Scala Developers Barcelona - [ADV] Implicits, pimp my library & typeclasses
BEGIN:VEVENT
DTSTART:20150611T180000Z
DTEND:20150611T190000Z
DTSTAMP:20150611T180000Z
UID:f7ecf0c28740adf03cdad7ca1e31d863@betabeers.com
CREATED:20150606T230108Z
DESCRIPTION:https://betabeers.com/en/event/scala-developers-barcelona-adv-i
mplicits-pimp-my-library-typeclasses-11-junio-2015-2782/
URL:https://betabeers.com/en/event/scala-developers-barcelona-adv-implicits
-pimp-my-library-typeclasses-11-junio-2015-2782/
LAST-MODIFIED:20150606T230108Z
LOCATION:Carrer Bailèn, 11, 08010, Barcelona, España
SEQUENCE:0
STATUS:CONFIRMED
SUMMARY:Scala Developers Barcelona - [ADV] Implicits, pimp my library & typ
eclasses
TRANSP:OPAQUE
END:VEVENT
END:VCALENDAR
