BEGIN:VCALENDAR
PRODID:-//hacksw/handcal//NONSGML v1.0//EN
VERSION:2.0
CALSCALE:GREGORIAN
METHOD:PUBLISH
X-WR-CALNAME:ScalaMAD: Scala Programming @ Madrid - From ECMAScript 5 to ES 6 to Scala.js
X-WR-TIMEZONE:Europe/Madrid
X-WR-CALDESC:ScalaMAD: Scala Programming @ Madrid - From ECMAScript 5 to ES 6 to Scala.js
BEGIN:VEVENT
DTSTART:20150629T181500Z
DTEND:20150629T191500Z
DTSTAMP:20150629T181500Z
UID:6536da6fc4ea87a25ca6b3c9e69647f2@betabeers.com
CREATED:20150606T230050Z
DESCRIPTION:https://betabeers.com/en/event/scalamad-scala-programming-madri
d-from-ecmascript-5-to-es-6-to-scalajs-29-junio-2015-2778/
URL:https://betabeers.com/en/event/scalamad-scala-programming-madrid-from-e
cmascript-5-to-es-6-to-scalajs-29-junio-2015-2778/
LAST-MODIFIED:20150606T230050Z
LOCATION:C/ Bailén, 41 28005 , Madrid, España
SEQUENCE:0
STATUS:CONFIRMED
SUMMARY:ScalaMAD: Scala Programming @ Madrid - From ECMAScript 5 to ES 6 to
 Scala.js
TRANSP:OPAQUE
END:VEVENT
END:VCALENDAR
