BEGIN:VCALENDAR
PRODID:-//hacksw/handcal//NONSGML v1.0//EN
VERSION:2.0
CALSCALE:GREGORIAN
METHOD:PUBLISH
X-WR-CALNAME:Geek-a-paloozaaa 2015 ( GAPAND2015 )
X-WR-TIMEZONE:Europe/Madrid
X-WR-CALDESC:Geek-a-paloozaaa 2015 ( GAPAND2015 )
BEGIN:VEVENT
DTSTART:20150704T080000Z
DTEND:20150704T170000Z
DTSTAMP:20150704T080000Z
UID:cfa45072989170fcafd71b96725c340f@betabeers.com
CREATED:20150605T104531Z
DESCRIPTION:https://betabeers.com/en/event/geek-a-paloozaaa-2015-gapand2015
--2765/
URL:https://betabeers.com/en/event/geek-a-paloozaaa-2015-gapand2015--2765/
LAST-MODIFIED:20150605T104531Z
LOCATION:PLAÇA DE LA GERMANDAT, 7, Sant Julià de Lòria, Sant Julià de L
òria, Andorra
SEQUENCE:0
STATUS:CONFIRMED
SUMMARY:Geek-a-paloozaaa 2015 ( GAPAND2015 )
TRANSP:OPAQUE
END:VEVENT
END:VCALENDAR
