BEGIN:VCALENDAR
PRODID:-//hacksw/handcal//NONSGML v1.0//EN
VERSION:2.0
CALSCALE:GREGORIAN
METHOD:PUBLISH
X-WR-CALNAME:Investment Mornings
X-WR-TIMEZONE:Europe/Madrid
X-WR-CALDESC:Investment Mornings
BEGIN:VEVENT
DTSTART:20150617T080000Z
DTEND:20150617T103000Z
DTSTAMP:20150617T080000Z
UID:721aa818101dbc0dcb1157cb16f5e114@betabeers.com
CREATED:20150603T161232Z
DESCRIPTION:https://betabeers.com/en/event/investment-mornings-17-junio-201
5-2763/
URL:https://betabeers.com/en/event/investment-mornings-17-junio-2015-2763/
LAST-MODIFIED:20150603T161232Z
LOCATION:C/ Sant Joan de la Salle, 42, Barcelona, España
SEQUENCE:0
STATUS:CONFIRMED
SUMMARY:Investment Mornings
TRANSP:OPAQUE
END:VEVENT
END:VCALENDAR
