BEGIN:VCALENDAR
PRODID:-//hacksw/handcal//NONSGML v1.0//EN
VERSION:2.0
CALSCALE:GREGORIAN
METHOD:PUBLISH
X-WR-CALNAME:Zaragoza SAPUI5/OPENUI5 Developers - Charla SAPUI5 en Betabeers
X-WR-TIMEZONE:Europe/Madrid
X-WR-CALDESC:Zaragoza SAPUI5/OPENUI5 Developers - Charla SAPUI5 en Betabeers
BEGIN:VEVENT
DTSTART:20150529T180000Z
DTEND:20150529T190000Z
DTSTAMP:20150529T180000Z
UID:ad41c1c715c64064f64c59d04af1736a@betabeers.com
CREATED:20150523T230055Z
DESCRIPTION:https://betabeers.com/en/event/zaragoza-sapui5-openui5-develope
rs-charla-sapui5-betabeers-29-mayo-2015-2749/
URL:https://betabeers.com/en/event/zaragoza-sapui5-openui5-developers-charl
a-sapui5-betabeers-29-mayo-2015-2749/
LAST-MODIFIED:20150523T230055Z
LOCATION: ​Calle Mas de las Matas, 20, Zaragoza, España
SEQUENCE:0
STATUS:CONFIRMED
SUMMARY:Zaragoza SAPUI5/OPENUI5 Developers - Charla SAPUI5 en Betabeers
TRANSP:OPAQUE
END:VEVENT
END:VCALENDAR
