BEGIN:VCALENDAR
PRODID:-//hacksw/handcal//NONSGML v1.0//EN
VERSION:2.0
CALSCALE:GREGORIAN
METHOD:PUBLISH
X-WR-CALNAME:Agile Canarias - Mini Agile Project 
X-WR-TIMEZONE:Europe/Madrid
X-WR-CALDESC:Agile Canarias - Mini Agile Project 
BEGIN:VEVENT
DTSTART:20150522T183000Z
DTEND:20150522T193000Z
DTSTAMP:20150522T183000Z
UID:9494a9580b705caf1dcdc96dcf6fbd09@betabeers.com
CREATED:20150516T230048Z
DESCRIPTION:https://betabeers.com/en/event/agile-canarias-mini-agile-projec
t-22-mayo-2015-2739/
URL:https://betabeers.com/en/event/agile-canarias-mini-agile-project-22-may
o-2015-2739/
LAST-MODIFIED:20150516T230048Z
LOCATION:-, Santa Cruz de Tenerife, España
SEQUENCE:0
STATUS:CONFIRMED
SUMMARY:Agile Canarias - Mini Agile Project 
TRANSP:OPAQUE
END:VEVENT
END:VCALENDAR
